BEGIN:VCALENDAR
VERSION:2.0
PRODID:-//5.132.161.124//NONSGML kigkonsult.se iCalcreator 2.24.2//
BEGIN:VEVENT
UID:20260421T214238CEST-435359adc6@5.132.161.124
DTSTAMP:20260421T194238Z
DTSTART:20260917T160000Z
SUMMARY:Klang und Farbe (17.09.2026\, 18:00)
END:VEVENT
END:VCALENDAR
