BEGIN:VCALENDAR
VERSION:2.0
PRODID:-//5.132.161.124//NONSGML kigkonsult.se iCalcreator 2.24.2//
BEGIN:VEVENT
UID:20260421T093816CEST-8767878ca6@5.132.161.124
DTSTAMP:20260421T073816Z
DTSTART:20260923T173000Z
SUMMARY:Christian Tetzlaff (23.09.2026\, 19:30)
END:VEVENT
END:VCALENDAR
