BEGIN:VCALENDAR
VERSION:2.0
PRODID:-//5.132.161.124//NONSGML kigkonsult.se iCalcreator 2.24.2//
BEGIN:VEVENT
UID:20260421T152112CEST-691998d6a4@5.132.161.124
DTSTAMP:20260421T132112Z
DTSTART:20260926T173000Z
SUMMARY:Cameron Carpenter (26.09.2026\, 19:30)
END:VEVENT
END:VCALENDAR
