BEGIN:VCALENDAR
VERSION:2.0
PRODID:-//5.132.161.124//NONSGML kigkonsult.se iCalcreator 2.24.2//
BEGIN:VEVENT
UID:20260422T001118CEST-014654410d@5.132.161.124
DTSTAMP:20260421T221118Z
DTSTART:20260926T113000Z
SUMMARY:Hänsel und Gretel - Familienkonzert im Brucknerfest (26.09.2026\, 1
 3:30)
END:VEVENT
END:VCALENDAR
