BEGIN:VCALENDAR
VERSION:2.0
PRODID:-//5.132.161.124//NONSGML kigkonsult.se iCalcreator 2.24.2//
BEGIN:VEVENT
UID:20260425T134252CEST-8931f028c5@5.132.161.124
DTSTAMP:20260425T114252Z
DTSTART:20261123T183000Z
SUMMARY:Annett Louisan - Sehnsucht (23.11.2026\, 19:30)
END:VEVENT
END:VCALENDAR
