BEGIN:VCALENDAR
VERSION:2.0
PRODID:-//5.132.161.124//NONSGML kigkonsult.se iCalcreator 2.24.2//
BEGIN:VEVENT
UID:20260419T170529CEST-7226447321@5.132.161.124
DTSTAMP:20260419T150529Z
DTSTART:20261015T173000Z
SUMMARY:Peter Cornelius 75 (15.10.2026\, 19:30)
END:VEVENT
END:VCALENDAR
