BEGIN:VCALENDAR
VERSION:2.0
PRODID:-//5.132.161.124//NONSGML kigkonsult.se iCalcreator 2.24.2//
BEGIN:VEVENT
UID:20260424T174747CEST-2599361a63@5.132.161.124
DTSTAMP:20260424T154747Z
DTSTART:20200916T173000Z
SUMMARY:Sergey Malov & Christoph Spering (16.9.2020\, 19:30)
END:VEVENT
END:VCALENDAR
