BEGIN:VCALENDAR
VERSION:2.0
PRODID:-//5.132.161.124//NONSGML kigkonsult.se iCalcreator 2.24.2//
BEGIN:VEVENT
UID:20260422T201611CEST-2129feb367@5.132.161.124
DTSTAMP:20260422T181611Z
DTSTART:20210220T190000Z
SUMMARY:The Elton Show (20.02.2021\, 20:00)
END:VEVENT
END:VCALENDAR
