BEGIN:VCALENDAR
VERSION:2.0
PRODID:-//5.132.161.124//NONSGML kigkonsult.se iCalcreator 2.24.2//
BEGIN:VEVENT
UID:20260422T093610CEST-79070a5881@5.132.161.124
DTSTAMP:20260422T073610Z
DTSTART:20220312T190000Z
SUMMARY:Game of Thrones - The Concert Show (12.3.2022)
END:VEVENT
END:VCALENDAR
