BEGIN:VCALENDAR
VERSION:2.0
PRODID:-//5.132.161.124//NONSGML kigkonsult.se iCalcreator 2.24.2//
BEGIN:VEVENT
UID:20260421T114632CEST-0202ad3a81@5.132.161.124
DTSTAMP:20260421T094632Z
DTSTART:20220309T190000Z
SUMMARY:Ennio Morricone (9.3.2022)
END:VEVENT
END:VCALENDAR
