BEGIN:VCALENDAR
VERSION:2.0
PRODID:-//5.132.161.124//NONSGML kigkonsult.se iCalcreator 2.24.2//
BEGIN:VEVENT
UID:20260421T111914CEST-5383c22181@5.132.161.124
DTSTAMP:20260421T091914Z
DTSTART:20220712T180000Z
SUMMARY:Radauer Ensemble (12.07.2022\, 20:00)
END:VEVENT
END:VCALENDAR
