BEGIN:VCALENDAR
VERSION:2.0
PRODID:-//5.132.161.124//NONSGML kigkonsult.se iCalcreator 2.24.2//
BEGIN:VEVENT
UID:20260424T061356CEST-0782c77b2a@5.132.161.124
DTSTAMP:20260424T041356Z
DTSTART:20220330T173000Z
SUMMARY:Schallfeld Ensemble (30.3.2022\, 19:30)
END:VEVENT
END:VCALENDAR
