BEGIN:VCALENDAR
VERSION:2.0
PRODID:-//5.132.161.124//NONSGML kigkonsult.se iCalcreator 2.24.2//
BEGIN:VEVENT
UID:20260423T112519CEST-804541d9aa@5.132.161.124
DTSTAMP:20260423T092519Z
DTSTART:20221008T173000Z
SUMMARY:Böck is Bruckner V (8.10.2022\, 19:30)
END:VEVENT
END:VCALENDAR
