BEGIN:VCALENDAR
VERSION:2.0
PRODID:-//5.132.161.124//NONSGML kigkonsult.se iCalcreator 2.24.2//
BEGIN:VEVENT
UID:20260422T104847CEST-7944274d03@5.132.161.124
DTSTAMP:20260422T084847Z
DTSTART:20241008T173000Z
SUMMARY:Ádám Fischer & The Orchestra Of The Age Of Enlightenment (08.10.202
 4\, 19:30)
END:VEVENT
END:VCALENDAR
