BEGIN:VCALENDAR
VERSION:2.0
PRODID:-//5.132.161.124//NONSGML kigkonsult.se iCalcreator 2.24.2//
BEGIN:VEVENT
UID:20260422T124150CEST-7271ac7940@5.132.161.124
DTSTAMP:20260422T104150Z
DTSTART:20240927T173000Z
SUMMARY:Markus Poschner & Bruckner Orchester Linz (27.09.2024\, 19:30)
END:VEVENT
END:VCALENDAR
