BEGIN:VCALENDAR
VERSION:2.0
PRODID:-//5.132.161.124//NONSGML kigkonsult.se iCalcreator 2.24.2//
BEGIN:VEVENT
UID:20260423T135230CEST-1591629da4@5.132.161.124
DTSTAMP:20260423T115230Z
DTSTART:20260904T173000Z
SUMMARY:Chailly\, Malofeev & Filarmonica della Scala (04.09.2026\, 19:30)
END:VEVENT
END:VCALENDAR
