BEGIN:VCALENDAR
VERSION:2.0
PRODID:-//5.132.161.124//NONSGML kigkonsult.se iCalcreator 2.24.2//
BEGIN:VEVENT
UID:20260419T192855CEST-653645c91c@5.132.161.124
DTSTAMP:20260419T172855Z
DTSTART:20260211T183000Z
SUMMARY:Ioffe\, Chooi & Prague Radio Symphony Orchestra (11.02.2026\, 19:30
 )
END:VEVENT
END:VCALENDAR
