BEGIN:VCALENDAR
VERSION:2.0
PRODID:-//5.132.161.124//NONSGML kigkonsult.se iCalcreator 2.24.2//
BEGIN:VEVENT
UID:20260419T194043CEST-27475d51b5@5.132.161.124
DTSTAMP:20260419T174043Z
DTSTART:20251214T100000Z
SUMMARY:Bilder einer Ausstellung (14.12.2025\, 11:00)
END:VEVENT
END:VCALENDAR
