BEGIN:VCALENDAR
VERSION:2.0
PRODID:-//5.132.161.124//NONSGML kigkonsult.se iCalcreator 2.24.2//
BEGIN:VEVENT
UID:20260419T193537CEST-388246b92f@5.132.161.124
DTSTAMP:20260419T173537Z
DTSTART:20251213T093000Z
SUMMARY:Familienführung – Fokus Haustechnik ÖGS (13.12.2025\, 10:30)
END:VEVENT
END:VCALENDAR
