BEGIN:VCALENDAR
VERSION:2.0
PRODID:-//5.132.161.124//NONSGML kigkonsult.se iCalcreator 2.24.2//
BEGIN:VEVENT
UID:20260419T141917CEST-759169e0a2@5.132.161.124
DTSTAMP:20260419T121917Z
DTSTART:20251024T173000Z
SUMMARY:Missa Solemnis (24.10.2025\, 19:30)
END:VEVENT
END:VCALENDAR
