BEGIN:VCALENDAR
VERSION:2.0
PRODID:-//5.132.161.124//NONSGML kigkonsult.se iCalcreator 2.24.2//
BEGIN:VEVENT
UID:20260419T141856CEST-601035313b@5.132.161.124
DTSTAMP:20260419T121856Z
DTSTART:20260115T130000Z
SUMMARY:Senior:innenball der Stadt Linz (15.01.2026\, 14:00)
END:VEVENT
END:VCALENDAR
