BEGIN:VCALENDAR
VERSION:2.0
PRODID:-//5.132.161.124//NONSGML kigkonsult.se iCalcreator 2.24.2//
BEGIN:VEVENT
UID:20260421T134523CEST-791132a3d5@5.132.161.124
DTSTAMP:20260421T114523Z
DTSTART:20260913T083000Z
SUMMARY:Festakt 2026 (13.09.2026\, 10:30)
END:VEVENT
END:VCALENDAR
