BEGIN:VCALENDAR
VERSION:2.0
PRODID:-//5.132.161.124//NONSGML kigkonsult.se iCalcreator 2.24.2//
BEGIN:VEVENT
UID:20260421T100833CEST-3133b43bbb@5.132.161.124
DTSTAMP:20260421T080833Z
DTSTART:20260914T173000Z
SUMMARY:Brad Mehldau & Kirill Gerstein (14.09.2026\, 19:30)
END:VEVENT
END:VCALENDAR
