BEGIN:VCALENDAR
VERSION:2.0
PRODID:-//5.132.161.124//NONSGML kigkonsult.se iCalcreator 2.24.2//
BEGIN:VEVENT
UID:20260421T112143CEST-3114b0a62f@5.132.161.124
DTSTAMP:20260421T092143Z
DTSTART:20260915T173000Z
SUMMARY:Austrofred & Atalante Quartett (15.09.2026\, 19:30)
END:VEVENT
END:VCALENDAR
