BEGIN:VCALENDAR
VERSION:2.0
PRODID:-//5.132.161.124//NONSGML kigkonsult.se iCalcreator 2.24.2//
BEGIN:VEVENT
UID:20260421T095455CEST-185494b9dc@5.132.161.124
DTSTAMP:20260421T075455Z
DTSTART:20260916T173000Z
SUMMARY:Steinaecker\, Barron & Mahler Academy Orchestra (16.09.2026\, 19:30
 )
END:VEVENT
END:VCALENDAR
