BEGIN:VCALENDAR
VERSION:2.0
PRODID:-//5.132.161.124//NONSGML kigkonsult.se iCalcreator 2.24.2//
BEGIN:VEVENT
UID:20260423T214955CEST-07023f2e36@5.132.161.124
DTSTAMP:20260423T194955Z
DTSTART:20261011T130000Z
SUMMARY:Welser-Möst & The Cleveland Orchestra (11.10.2026\, 15:00)
END:VEVENT
END:VCALENDAR
