BEGIN:VCALENDAR
VERSION:2.0
PRODID:-//5.132.161.124//NONSGML kigkonsult.se iCalcreator 2.24.2//
BEGIN:VEVENT
UID:20260425T133955CEST-4541908a35@5.132.161.124
DTSTAMP:20260425T113955Z
DTSTART:20260513T170000Z
SUMMARY:Ö1 Musiksalon 2026 (13.05.2026\, 19:00)
END:VEVENT
END:VCALENDAR
