BEGIN:VCALENDAR
VERSION:2.0
PRODID:-//5.132.161.124//NONSGML kigkonsult.se iCalcreator 2.24.2//
BEGIN:VEVENT
UID:20260424T223951CEST-8782a412f5@5.132.161.124
DTSTAMP:20260424T203951Z
DTSTART:20261217T180000Z
SUMMARY:RIAN Weihnachtsshow 26 (17.12.2026\; 20:00)
END:VEVENT
END:VCALENDAR
