BEGIN:VCALENDAR
VERSION:2.0
PRODID:-//5.132.161.124//NONSGML kigkonsult.se iCalcreator 2.24.2//
BEGIN:VEVENT
UID:20260420T162224CEST-5672307a88@5.132.161.124
DTSTAMP:20260420T142224Z
DTSTART:20200403T180000Z
SUMMARY:Annett Louisan – „Kleine große Liebe“
END:VEVENT
END:VCALENDAR
