BEGIN:VCALENDAR
VERSION:2.0
PRODID:-//5.132.161.124//NONSGML kigkonsult.se iCalcreator 2.24.2//
BEGIN:VEVENT
UID:20260420T042015CEST-61860a8e33@5.132.161.124
DTSTAMP:20260420T022015Z
DTSTART:20191030T183000Z
SUMMARY:The Wave Quartet
END:VEVENT
END:VCALENDAR
